BEGIN:VCALENDAR
VERSION:2.0
PRODID:-//Cole Fine Guns &amp; Gunsmithing - ECPv6.15.17.1//NONSGML v1.0//EN
CALSCALE:GREGORIAN
METHOD:PUBLISH
X-ORIGINAL-URL:https://colegun.com
X-WR-CALDESC:Events for Cole Fine Guns &amp; Gunsmithing
REFRESH-INTERVAL;VALUE=DURATION:PT1H
X-Robots-Tag:noindex
X-PUBLISHED-TTL:PT1H
BEGIN:VTIMEZONE
TZID:America/New_York
BEGIN:DAYLIGHT
TZOFFSETFROM:-0500
TZOFFSETTO:-0400
TZNAME:EDT
DTSTART:20250309T070000
END:DAYLIGHT
BEGIN:STANDARD
TZOFFSETFROM:-0400
TZOFFSETTO:-0500
TZNAME:EST
DTSTART:20251102T060000
END:STANDARD
BEGIN:DAYLIGHT
TZOFFSETFROM:-0500
TZOFFSETTO:-0400
TZNAME:EDT
DTSTART:20260308T070000
END:DAYLIGHT
BEGIN:STANDARD
TZOFFSETFROM:-0400
TZOFFSETTO:-0500
TZNAME:EST
DTSTART:20261101T060000
END:STANDARD
BEGIN:DAYLIGHT
TZOFFSETFROM:-0500
TZOFFSETTO:-0400
TZNAME:EDT
DTSTART:20270314T070000
END:DAYLIGHT
BEGIN:STANDARD
TZOFFSETFROM:-0400
TZOFFSETTO:-0500
TZNAME:EST
DTSTART:20271107T060000
END:STANDARD
END:VTIMEZONE
BEGIN:VEVENT
DTSTART;VALUE=DATE:20260421
DTEND;VALUE=DATE:20260427
DTSTAMP:20260423T062541
CREATED:20260119T174558Z
LAST-MODIFIED:20260119T174558Z
UID:243977-1776729600-1777247999@colegun.com
SUMMARY:2026 World English Sporting Clays Championship
DESCRIPTION:Complete this Form To Schedule Service During the Event\nPlease enable JavaScript in your browser to complete this form. - Step 1 of 2Name *FirstLastPhoneEmail *Firearm Make *Firearm Model *Serial Number *Gauge & Barrel Length *Where Is The Event You Will Be Attending? *National Shooting Complex - San Antonio\, TexasCardinal Shooting Center - Marengo\, OhioNextPlease Select The Upcoming Event You Will Be AttendingCardinal Shooting Center Events2026 SCTP National ChampionshipNational Shooting Complex Events2026 National Sporting Clays Championship2026 World Skeet Championship2026 Texas State 4-H Championship2026 World English Sporting Clays Championship2026 Collegiate Clay Target Championships2026 San Antonio Stock Show & Rodeo JUNIOR SHOOT-OUTServices Available for Request Without AppointmentWhat Service Are You Requesting During The Event?Bead ReplacementA300/A400 Trigger & Action JobFiring Pin/Spring ReplacementBasic CleaningRib Dent RepairComplimentary Fit CheckEmergency ServiceAuto Safety RemovalFull ServiceRecoil PadThe jobs noted here are estimated to be completed in under two hours and do not require an advance appointment to be scheduled. 		\n			Are Email Is\n			\n		\n		Additional Notes or InformationServices Available for Request With Appointment CheckboxesFull ServiceTSK InstallationTSK Installations require the TSK unit being purchased in advance and require pre-scheduling.\n  Gunsmithing Work Order Form\n\nSignature *\n				\n					\n				\n				Clear Signature\n			Submit
URL:https://colegun.com/event/2026-world-english-sporting-clays-championship/
LOCATION:The National Shooting Complex\, 5931 Roft Road\, San Antonio\, TX\, 78253\, United States
ORGANIZER;CN="The National Shooting Complex":MAILTO:rgraff@nssa-nsca.com
END:VEVENT
BEGIN:VEVENT
DTSTART;VALUE=DATE:20260711
DTEND;VALUE=DATE:20260720
DTSTAMP:20260423T062541
CREATED:20260119T174556Z
LAST-MODIFIED:20260119T174556Z
UID:243985-1783728000-1784505599@colegun.com
SUMMARY:2026 SCTP National Championship
DESCRIPTION:Complete this Form To Schedule Service During the Event\nPlease enable JavaScript in your browser to complete this form. - Step 1 of 2		\n			Cardinal Phone Requesting\n			\n		\n		Name *FirstLastPhoneEmail *Firearm Make *Firearm Model *Serial Number *Gauge & Barrel Length *Where Is The Event You Will Be Attending? *National Shooting Complex - San Antonio\, TexasCardinal Shooting Center - Marengo\, OhioNextPlease Select The Upcoming Event You Will Be AttendingCardinal Shooting Center Events2026 SCTP National ChampionshipNational Shooting Complex Events2026 National Sporting Clays Championship2026 World Skeet Championship2026 Texas State 4-H Championship2026 World English Sporting Clays Championship2026 Collegiate Clay Target Championships2026 San Antonio Stock Show & Rodeo JUNIOR SHOOT-OUTServices Available for Request Without AppointmentWhat Service Are You Requesting During The Event?Bead ReplacementA300/A400 Trigger & Action JobFiring Pin/Spring ReplacementBasic CleaningRib Dent RepairComplimentary Fit CheckEmergency ServiceAuto Safety RemovalFull ServiceRecoil PadThe jobs noted here are estimated to be completed in under two hours and do not require an advance appointment to be scheduled. Additional Notes or InformationServices Available for Request With Appointment CheckboxesFull ServiceTSK InstallationTSK Installations require the TSK unit being purchased in advance and require pre-scheduling.\n  Gunsmithing Work Order Form\n\nSignature *\n				\n					\n				\n				Clear Signature\n			Submit
URL:https://colegun.com/event/2026-sctp-national-championship/
LOCATION:The Cardinal Center\, 616 OH-61\, Marengo\, OH\, 43334\, United States
ORGANIZER;CN="The Cardinal Center":MAILTO:CCCoffice@yahoo.com
END:VEVENT
BEGIN:VEVENT
DTSTART;VALUE=DATE:20260714
DTEND;VALUE=DATE:20260719
DTSTAMP:20260423T062541
CREATED:20260119T174553Z
LAST-MODIFIED:20260119T174553Z
UID:243979-1783987200-1784419199@colegun.com
SUMMARY:2026 Texas State 4-H Championship
DESCRIPTION:Complete this Form To Schedule Service During the Event\nPlease enable JavaScript in your browser to complete this form. - Step 1 of 2		\n			Services Be Where\n			\n		\n		Name *FirstLastPhoneEmail *Firearm Make *Firearm Model *Serial Number *Gauge & Barrel Length *Where Is The Event You Will Be Attending? *National Shooting Complex - San Antonio\, TexasCardinal Shooting Center - Marengo\, OhioNextPlease Select The Upcoming Event You Will Be AttendingCardinal Shooting Center Events2026 SCTP National ChampionshipNational Shooting Complex Events2026 National Sporting Clays Championship2026 World Skeet Championship2026 Texas State 4-H Championship2026 World English Sporting Clays Championship2026 Collegiate Clay Target Championships2026 San Antonio Stock Show & Rodeo JUNIOR SHOOT-OUTServices Available for Request Without AppointmentWhat Service Are You Requesting During The Event?Bead ReplacementA300/A400 Trigger & Action JobFiring Pin/Spring ReplacementBasic CleaningRib Dent RepairComplimentary Fit CheckEmergency ServiceAuto Safety RemovalFull ServiceRecoil PadThe jobs noted here are estimated to be completed in under two hours and do not require an advance appointment to be scheduled. Additional Notes or InformationServices Available for Request With Appointment CheckboxesFull ServiceTSK InstallationTSK Installations require the TSK unit being purchased in advance and require pre-scheduling.\n  Gunsmithing Work Order Form\n\nSignature *\n				\n					\n				\n				Clear Signature\n			Submit
URL:https://colegun.com/event/2026-texas-state-4-h-championship/
LOCATION:The National Shooting Complex\, 5931 Roft Road\, San Antonio\, TX\, 78253\, United States
ORGANIZER;CN="The National Shooting Complex":MAILTO:rgraff@nssa-nsca.com
END:VEVENT
BEGIN:VEVENT
DTSTART;VALUE=DATE:20260923
DTEND;VALUE=DATE:20260928
DTSTAMP:20260423T062541
CREATED:20260119T174552Z
LAST-MODIFIED:20260119T174552Z
UID:243981-1790121600-1790553599@colegun.com
SUMMARY:2026 World Skeet Championship
DESCRIPTION:Complete this Form To Schedule Service During the Event\nPlease enable JavaScript in your browser to complete this form. - Step 1 of 2Name *FirstLastPhoneEmail *Firearm Make *Firearm Model *Serial Number *Gauge & Barrel Length *Where Is The Event You Will Be Attending? *National Shooting Complex - San Antonio\, TexasCardinal Shooting Center - Marengo\, OhioNext		\n			or Where for\n			\n		\n		Please Select The Upcoming Event You Will Be AttendingCardinal Shooting Center Events2026 SCTP National ChampionshipNational Shooting Complex Events2026 National Sporting Clays Championship2026 World Skeet Championship2026 Texas State 4-H Championship2026 World English Sporting Clays Championship2026 Collegiate Clay Target Championships2026 San Antonio Stock Show & Rodeo JUNIOR SHOOT-OUTServices Available for Request Without AppointmentWhat Service Are You Requesting During The Event?Bead ReplacementA300/A400 Trigger & Action JobFiring Pin/Spring ReplacementBasic CleaningRib Dent RepairComplimentary Fit CheckEmergency ServiceAuto Safety RemovalFull ServiceRecoil PadThe jobs noted here are estimated to be completed in under two hours and do not require an advance appointment to be scheduled. Additional Notes or InformationServices Available for Request With Appointment CheckboxesFull ServiceTSK InstallationTSK Installations require the TSK unit being purchased in advance and require pre-scheduling.\n  Gunsmithing Work Order Form\n\nSignature *\n				\n					\n				\n				Clear Signature\n			Submit
URL:https://colegun.com/event/2026-world-skeet-championship/
LOCATION:The National Shooting Complex\, 5931 Roft Road\, San Antonio\, TX\, 78253\, United States
ORGANIZER;CN="The National Shooting Complex":MAILTO:rgraff@nssa-nsca.com
END:VEVENT
BEGIN:VEVENT
DTSTART;VALUE=DATE:20261015
DTEND;VALUE=DATE:20261026
DTSTAMP:20260423T062541
CREATED:20260119T174550Z
LAST-MODIFIED:20260119T191515Z
UID:243983-1792022400-1792972799@colegun.com
SUMMARY:2026 National Sporting Clays Championship
DESCRIPTION:Complete this Form To Schedule Service During the Event\nPlease enable JavaScript in your browser to complete this form. - Step 1 of 2Name *FirstLastPhoneEmail *Firearm Make *Firearm Model *Serial Number *Gauge & Barrel Length *Where Is The Event You Will Be Attending? *National Shooting Complex - San Antonio\, TexasCardinal Shooting Center - Marengo\, OhioNext		\n			for Attending Appointment\n			\n		\n		Please Select The Upcoming Event You Will Be AttendingCardinal Shooting Center Events2026 SCTP National ChampionshipNational Shooting Complex Events2026 National Sporting Clays Championship2026 World Skeet Championship2026 Texas State 4-H Championship2026 World English Sporting Clays Championship2026 Collegiate Clay Target Championships2026 San Antonio Stock Show & Rodeo JUNIOR SHOOT-OUTServices Available for Request Without AppointmentWhat Service Are You Requesting During The Event?Bead ReplacementA300/A400 Trigger & Action JobFiring Pin/Spring ReplacementBasic CleaningRib Dent RepairComplimentary Fit CheckEmergency ServiceAuto Safety RemovalFull ServiceRecoil PadThe jobs noted here are estimated to be completed in under two hours and do not require an advance appointment to be scheduled. Additional Notes or InformationServices Available for Request With Appointment CheckboxesFull ServiceTSK InstallationTSK Installations require the TSK unit being purchased in advance and require pre-scheduling.\n  Gunsmithing Work Order Form\n\nSignature *\n				\n					\n				\n				Clear Signature\n			Submit
URL:https://colegun.com/event/2026-national-sporting-clays-championship/
LOCATION:The National Shooting Complex\, 5931 Roft Road\, San Antonio\, TX\, 78253\, United States
ORGANIZER;CN="The National Shooting Complex":MAILTO:rgraff@nssa-nsca.com
END:VEVENT
END:VCALENDAR